BEGIN:VCALENDAR
VERSION:2.0
PRODID:-// - ECPv6.15.20//NONSGML v1.0//EN
CALSCALE:GREGORIAN
METHOD:PUBLISH
X-ORIGINAL-URL:https://rfv-burgberg.de
X-WR-CALDESC:Veranstaltungen für 
REFRESH-INTERVAL;VALUE=DURATION:PT1H
X-Robots-Tag:noindex
X-PUBLISHED-TTL:PT1H
BEGIN:VTIMEZONE
TZID:Europe/Berlin
BEGIN:DAYLIGHT
TZOFFSETFROM:+0100
TZOFFSETTO:+0200
TZNAME:CEST
DTSTART:20210328T010000
END:DAYLIGHT
BEGIN:STANDARD
TZOFFSETFROM:+0200
TZOFFSETTO:+0100
TZNAME:CET
DTSTART:20211031T010000
END:STANDARD
BEGIN:DAYLIGHT
TZOFFSETFROM:+0100
TZOFFSETTO:+0200
TZNAME:CEST
DTSTART:20220327T010000
END:DAYLIGHT
BEGIN:STANDARD
TZOFFSETFROM:+0200
TZOFFSETTO:+0100
TZNAME:CET
DTSTART:20221030T010000
END:STANDARD
BEGIN:DAYLIGHT
TZOFFSETFROM:+0100
TZOFFSETTO:+0200
TZNAME:CEST
DTSTART:20230326T010000
END:DAYLIGHT
BEGIN:STANDARD
TZOFFSETFROM:+0200
TZOFFSETTO:+0100
TZNAME:CET
DTSTART:20231029T010000
END:STANDARD
END:VTIMEZONE
BEGIN:VEVENT
DTSTART;TZID=Europe/Berlin:20220713T193000
DTEND;TZID=Europe/Berlin:20220713T220000
DTSTAMP:20260424T180701
CREATED:20220711T131428Z
LAST-MODIFIED:20220711T131428Z
UID:1263-1657740600-1657749600@rfv-burgberg.de
SUMMARY:Offizielle Stalleinweihung unseres neuen Pferdestalls
DESCRIPTION:Liebe Mitglieder\, liebe Ehrenmitglieder\, liebe Einsteller. \nAm Mittwoch\, den 13. Juli 2022 um 19:30 Uhr\, wollen wir die offizielle Inbetriebnahme unseres neuen Stalles feiern. Auch Herr Oberbürgermeister Henle wird dabei sein. Im Anschluss an den offiziellen Teil gibt es ein kleines Buffet mit Fingerfood. \nWir freuen uns auf Euch! \nDie Vorstandschaft
URL:https://rfv-burgberg.de/event/offizielle-stalleinweihung-unseres-neuen-pferdestalls/
CATEGORIES:Vereinsintern
END:VEVENT
END:VCALENDAR